BEGIN:VCALENDAR
VERSION:2.0
PRODID:icalendar-ruby
CALSCALE:GREGORIAN
METHOD:PUBLISH
BEGIN:VEVENT
DTSTAMP:20260421T212423Z
UID:118-833147@broadstreetumc.org
DTSTART:20261007T213000Z
DTEND:20261007T223000Z
CLASS:PUBLIC
CREATED:20260420T100324
DESCRIPTION:Come join us on the first Wednesday of each month at 5:30 PM in
  Memorial Hall for a delicious meal and an engaging program! Each gatherin
 g offers something new—whether it’s a special service\, game night\, g
 uest speaker\, or another exciting activity. Enjoy a meal catered by Amber
  Lipe for just $7 per adult\, $5 per child\, with a family maximum of $25.
  Don’t miss this opportunity for great food\, fellowship\, and fun for a
 ll ages!\n 
LAST-MODIFIED:20260420T100324
LOCATION:BSUMC Memorial Hall
SUMMARY:NOW Dinner
URL;VALUE=URI:https://www.broadstreetumc.org/events/now-dinner--118/2026-10
 -07
ATTACH;FILENAME=NOW.jpg;FMTTYPE=image/jpeg:https://dq5pwpg1q8ru0.cloudfront
 .net/2026/04/20/14/03/24/dde042ed-9e93-4dd3-a249-acf170b8754d/NOW.jpg
END:VEVENT
END:VCALENDAR
